BEGIN:VCALENDAR
VERSION:2.0
PRODID:-//frohnzimmer e.V. - ECPv6.15.15//NONSGML v1.0//EN
CALSCALE:GREGORIAN
METHOD:PUBLISH
X-WR-CALNAME:frohnzimmer e.V.
X-ORIGINAL-URL:https://frohnzimmer.de
X-WR-CALDESC:Veranstaltungen für frohnzimmer e.V.
REFRESH-INTERVAL;VALUE=DURATION:PT1H
X-Robots-Tag:noindex
X-PUBLISHED-TTL:PT1H
BEGIN:VTIMEZONE
TZID:Europe/Berlin
BEGIN:DAYLIGHT
TZOFFSETFROM:+0100
TZOFFSETTO:+0200
TZNAME:CEST
DTSTART:20250330T010000
END:DAYLIGHT
BEGIN:STANDARD
TZOFFSETFROM:+0200
TZOFFSETTO:+0100
TZNAME:CET
DTSTART:20251026T010000
END:STANDARD
BEGIN:DAYLIGHT
TZOFFSETFROM:+0100
TZOFFSETTO:+0200
TZNAME:CEST
DTSTART:20260329T010000
END:DAYLIGHT
BEGIN:STANDARD
TZOFFSETFROM:+0200
TZOFFSETTO:+0100
TZNAME:CET
DTSTART:20261025T010000
END:STANDARD
BEGIN:DAYLIGHT
TZOFFSETFROM:+0100
TZOFFSETTO:+0200
TZNAME:CEST
DTSTART:20270328T010000
END:DAYLIGHT
BEGIN:STANDARD
TZOFFSETFROM:+0200
TZOFFSETTO:+0100
TZNAME:CET
DTSTART:20271031T010000
END:STANDARD
END:VTIMEZONE
BEGIN:VEVENT
DTSTART;TZID=Europe/Berlin:20260411T113000
DTEND;TZID=Europe/Berlin:20260411T113000
DTSTAMP:20260421T102725
CREATED:20260410T093040Z
LAST-MODIFIED:20260410T200317Z
UID:1805-1775907000-1775907000@frohnzimmer.de
SUMMARY:Offenes Frühstück gegen Rechts
DESCRIPTION:Für Gespräche über das\, was uns Mut macht und Hoffnung gibt. \nLern Menschen aus der Nachbarschaft kennen. Setze ein Zeichen für Vielfalt und Zusammenhalt. \nWir bereiten ein Frühstück vor. Du kannst etwas Veganes oder Vegetarisches mitbringen. Das ist freiwillig. \nAlle sind willkommen. Diskriminierung und Ausgrenzung haben bei uns keinen Platz.
URL:https://frohnzimmer.de/event/fruehstueck-gegen-rechts-2/
LOCATION:frohnzimmer\, Krefelder Str. 7\, Essen Frohnhausen\, Nordrhein-Westfalen
ATTACH;FMTTYPE=image/png:https://frohnzimmer.de/wp-content/uploads/2026/03/Fruehstueck-gegen-Rechts_Kalenderbild-6.png
END:VEVENT
END:VCALENDAR