BEGIN:VCALENDAR
VERSION:2.0
PRODID:-//frohnzimmer e.V. - ECPv6.15.15//NONSGML v1.0//EN
CALSCALE:GREGORIAN
METHOD:PUBLISH
X-WR-CALNAME:frohnzimmer e.V.
X-ORIGINAL-URL:https://frohnzimmer.de
X-WR-CALDESC:Veranstaltungen für frohnzimmer e.V.
REFRESH-INTERVAL;VALUE=DURATION:PT1H
X-Robots-Tag:noindex
X-PUBLISHED-TTL:PT1H
BEGIN:VTIMEZONE
TZID:Europe/Berlin
BEGIN:DAYLIGHT
TZOFFSETFROM:+0100
TZOFFSETTO:+0200
TZNAME:CEST
DTSTART:20250330T010000
END:DAYLIGHT
BEGIN:STANDARD
TZOFFSETFROM:+0200
TZOFFSETTO:+0100
TZNAME:CET
DTSTART:20251026T010000
END:STANDARD
BEGIN:DAYLIGHT
TZOFFSETFROM:+0100
TZOFFSETTO:+0200
TZNAME:CEST
DTSTART:20260329T010000
END:DAYLIGHT
BEGIN:STANDARD
TZOFFSETFROM:+0200
TZOFFSETTO:+0100
TZNAME:CET
DTSTART:20261025T010000
END:STANDARD
BEGIN:DAYLIGHT
TZOFFSETFROM:+0100
TZOFFSETTO:+0200
TZNAME:CEST
DTSTART:20270328T010000
END:DAYLIGHT
BEGIN:STANDARD
TZOFFSETFROM:+0200
TZOFFSETTO:+0100
TZNAME:CET
DTSTART:20271031T010000
END:STANDARD
END:VTIMEZONE
BEGIN:VEVENT
DTSTART;TZID=Europe/Berlin:20260520T180000
DTEND;TZID=Europe/Berlin:20260520T200000
DTSTAMP:20260419T165316
CREATED:20260410T181803Z
LAST-MODIFIED:20260410T181803Z
UID:1938-1779300000-1779307200@frohnzimmer.de
SUMMARY:parlare italiano
DESCRIPTION:Parla con noi\, nel\nStanza allegra \nCiao a tutti!\nLiebst du Italien und la dolce vita? – Dann lass uns reden! \nWir sind kein klassischer Kurs mit Lehrenden\, sondern ein lockerer Treff für Anfänger*innen\, bei dem wir uns gegenseitig unterstützen.
URL:https://frohnzimmer.de/event/parlare-italiano-2-2/
ATTACH;FMTTYPE=image/jpeg:https://frohnzimmer.de/wp-content/uploads/2026/04/signal-2026-04-07-221927_002.jpg
END:VEVENT
END:VCALENDAR